BEGIN:VCALENDAR
VERSION:2.0
PRODID:-//ITN-BUET - ECPv6.15.17.1//NONSGML v1.0//EN
CALSCALE:GREGORIAN
METHOD:PUBLISH
X-WR-CALNAME:ITN-BUET
X-ORIGINAL-URL:https://itn.buet.ac.bd/web
X-WR-CALDESC:Events for ITN-BUET
REFRESH-INTERVAL;VALUE=DURATION:PT1H
X-Robots-Tag:noindex
X-PUBLISHED-TTL:PT1H
BEGIN:VTIMEZONE
TZID:UTC
BEGIN:STANDARD
TZOFFSETFROM:+0000
TZOFFSETTO:+0000
TZNAME:UTC
DTSTART:20220101T000000
END:STANDARD
END:VTIMEZONE
BEGIN:VEVENT
DTSTART;TZID=UTC:20230305T103000
DTEND;TZID=UTC:20230305T130000
DTSTAMP:20260424T163350
CREATED:20230224T110002Z
LAST-MODIFIED:20230304T170117Z
UID:5235-1678012200-1678021200@itn.buet.ac.bd
SUMMARY:Dissemination workshop on Measuring Urban Sanitation and Empowering Study
DESCRIPTION:ITN-BUET and CWIS-FSM Support Cell\, DPHE are organizing a research findings dissemination workshop on “Measuring Urban Sanitation and Empowerment” on March 5\, 2023\, from 10:30 am to 1:00 pm at ITN-BUET Seminar Room\, ARI-ITN Building (5th Floor)\, BUET\, Dhaka-1000\, Bangladesh. The study was conducted in the municipalities of Saidpur and Meherpur\, Bangladesh as part of a global project on sanitation and women’s empowerment undertaken by the Rollins School of Public Health at Emory University\, USA\, in collaboration with WaterAid Bangladesh and Practical Action.
URL:https://itn.buet.ac.bd/web/event/dissemination-workshop-on-measuring-urban-sanitation-and-empowering-study/
LOCATION:ITN Seminar Room\, ARI-ITN Building (4th & 5th Floor)\, BUET Dhaka-1000.\, Dhaka 1000 Bangladesh\, Dhaka\, Dhaka-1000\, Bangladesh
CATEGORIES:Seminar
ATTACH;FMTTYPE=image/png:https://itn.buet.ac.bd/web/wp-content/uploads/2023/02/Dissemination-workshop-on-Measuring-Urban-Sanitation-and-Empowering-Study-.png
ORGANIZER;CN="ITN-BUET":MAILTO:diritn@itn.buet.ac.bd
END:VEVENT
END:VCALENDAR