BEGIN:VCALENDAR
VERSION:2.0
PRODID:-//ITN-BUET - ECPv6.15.17.1//NONSGML v1.0//EN
CALSCALE:GREGORIAN
METHOD:PUBLISH
X-ORIGINAL-URL:https://itn.buet.ac.bd/web
X-WR-CALDESC:Events for ITN-BUET
REFRESH-INTERVAL;VALUE=DURATION:PT1H
X-Robots-Tag:noindex
X-PUBLISHED-TTL:PT1H
BEGIN:VTIMEZONE
TZID:UTC
BEGIN:STANDARD
TZOFFSETFROM:+0000
TZOFFSETTO:+0000
TZNAME:UTC
DTSTART:20220101T000000
END:STANDARD
END:VTIMEZONE
BEGIN:VEVENT
DTSTART;TZID=UTC:20231011T090000
DTEND;TZID=UTC:20231011T130000
DTSTAMP:20260420T015320
CREATED:20231010T163743Z
LAST-MODIFIED:20231010T172725Z
UID:6127-1697014800-1697029200@itn.buet.ac.bd
SUMMARY:Workshop on Sector Development Plan (SDP) 2026-2040 for WASH
DESCRIPTION:Local Government Division (LGD)\, Ministry of LGRD&C\, has initiated the development of a new Sector Development Plan (SDP) for WASH in Bangladesh\, spanning from 2026 to 2040. ITN-BUET\, in collaboration with UNICEF\, is providing technical assistance for the preparation of this new SDP. An inception workshop took place on September 4\, 2023\, at ITN-BUET\, during which sector stakeholders shared their thoughts and ideas on the draft outline of the SDP. To advance this task\, rigorous consultations with sector stakeholders on the strategic directions\, guidelines\, and actions for drafting the content of SDP 2026-2040 for WASH are imperative. \nIn this regard\, a half-day Consultation Workshop is scheduled from 9:00 am to 1:00 pm on Wednesday\, October 11\, 2023\, at the ITN-BUET Seminar Room (5th Floor\, ARI-ITN Building\, BUET). The purpose of this workshop is to brainstorm and identify requirements for the SDP. \nDiscussion areas: \n\nExpanding access to safe and affordable drinking water and sanitation facilities.\nImproving hygiene promotion.\nAdvancing towards safely managed sanitation facilities.\nEstablishing a Fecal Sludge Management System (FSM).\nPrioritizing Arsenic Mitigation.
URL:https://itn.buet.ac.bd/web/event/workshop-on-sdp-for-wash/
LOCATION:ITN Seminar Room\, ARI-ITN Building (4th & 5th Floor)\, BUET Dhaka-1000.\, Dhaka 1000 Bangladesh\, Dhaka\, Dhaka-1000\, Bangladesh
CATEGORIES:Workshop
ATTACH;FMTTYPE=image/jpeg:https://itn.buet.ac.bd/web/wp-content/uploads/2023/10/Consultation-Workshop-on-Sector-Development-Plan-SDP-2026-2040-for-WASH-Banner.jpg
END:VEVENT
BEGIN:VEVENT
DTSTART;TZID=UTC:20231018T090000
DTEND;TZID=UTC:20231018T133000
DTSTAMP:20260420T015320
CREATED:20231015T163624Z
LAST-MODIFIED:20231018T164258Z
UID:6171-1697619600-1697635800@itn.buet.ac.bd
SUMMARY:2nd Consultation Workshop on Sector Development Plan 2026-2040 for WASH
DESCRIPTION:The Local Government Division (LGD)\, under the Ministry of LGRD&C\, has initiated the development of a new Sector Development Plan (SDP) spanning from 2026 to 2040 for Water\, Sanitation\, and Hygiene (WASH) in Bangladesh. ITN-BUET\, in collaboration with UNICEF\, is providing technical assistance for the preparation of this new SDP. \nAn inception workshop was conducted on September 4\, 2023\, at ITN-BUET\, during which sector stakeholders shared their insights and ideas concerning the draft outline of the SDP. To further progress in this endeavor\, the first Consultation Workshop\, focusing on the thematic area of increasing coverage and promoting quality\, was held on October 11\, 2023\, at ITN-BUET. During this workshop\, sector stakeholders engaged in brainstorming sessions\, provided strategic directions\, guidelines\, and identified actions for drafting the content of the SDP 2026-2040 for WASH. \nThe 2nd Consultation Workshop is scheduled to take place on October 18\, 2023 (Wednesday). This half-day workshop\, running from 9:00 am to 1:00 pm\, will be hosted in the ITN-BUET Seminar Room\, situated on the 5th Floor of the ARI-ITN Building at BUET.
URL:https://itn.buet.ac.bd/web/event/2nd-consultation-workshop-on-sector-development-plan-sdp-2026-2040-for-wash/
LOCATION:ITN Seminar Room\, ARI-ITN Building (4th & 5th Floor)\, BUET Dhaka-1000.\, Dhaka 1000 Bangladesh\, Dhaka\, Dhaka-1000\, Bangladesh
CATEGORIES:Workshop
ATTACH;FMTTYPE=image/jpeg:https://itn.buet.ac.bd/web/wp-content/uploads/2023/10/2nd-Consultation-Workshop-on-Sector-Development-Plan-SDP-2026-2040-for-WASH.jpg
ORGANIZER;CN="ITN-BUET":MAILTO:diritn@itn.buet.ac.bd
END:VEVENT
END:VCALENDAR