BEGIN:VCALENDAR
VERSION:2.0
PRODID:-//ITN-BUET - ECPv6.15.17.1//NONSGML v1.0//EN
CALSCALE:GREGORIAN
METHOD:PUBLISH
X-ORIGINAL-URL:https://itn.buet.ac.bd/web
X-WR-CALDESC:Events for ITN-BUET
REFRESH-INTERVAL;VALUE=DURATION:PT1H
X-Robots-Tag:noindex
X-PUBLISHED-TTL:PT1H
BEGIN:VTIMEZONE
TZID:UTC
BEGIN:STANDARD
TZOFFSETFROM:+0000
TZOFFSETTO:+0000
TZNAME:UTC
DTSTART:20220101T000000
END:STANDARD
END:VTIMEZONE
BEGIN:VEVENT
DTSTART;TZID=UTC:20230903T080000
DTEND;TZID=UTC:20230903T170000
DTSTAMP:20260419T220054
CREATED:20230902T174242Z
LAST-MODIFIED:20230902T174530Z
UID:5947-1693728000-1693760400@itn.buet.ac.bd
SUMMARY:Workshop on FSM Business Packages
DESCRIPTION:Training Module on FSM Business and Marketing (for Private Operator) & \nTraining Module on FSM Financial Models (for Municipalities and Public Service Provider) \n3rd September 2023 | Seminar Room\, ITN-BUET \nITN-BUET\, in collaboration with SNV Netherlands Development Organization and CWIS-FSM Support Cell\, is developing training modules focusing on FSM Business & Marketing for private operators and FSM Financial Models for municipalities/city corporations. In this context\, a workshop has been arranged to gather insights and opinions from sector experts to finalize the training modules. \n			\n				\n				\n				\n				\n				\n\n\n\nProgram Schedule  \n\n\n\n\n\n\n\n10:00 hours\nWelcome and opening\n\n\n10:30 hours\nGroup Work: Business sustainability needs and challenges in FSM business (by private operators)\n\n\n11:00 hours\nTea break and Networking\n\n\n11:30 hours\nFSM Business and Marketing Training Modules\n\n\n12:30 hours\nDiscussion on implementation strategy of scaling up\n\n\n13:15 hours\nLunch and prayer break\n\n\n\n\n\n\n14:00 hours\nPresentation on financial training module for municipalities\n\n\n15:00 hours\nGroup work: FSM business Analysis for municipalities\n\n\n15:30 hours\nTea break and Networking\n\n\n16:00 hours\nDiscussion and Feedback\n\n\n16:45 hours\nVote of Thanks and Closing
URL:https://itn.buet.ac.bd/web/event/workshop-on-fsm-business-packages/
LOCATION:ITN Seminar Room\, ARI-ITN Building (4th & 5th Floor)\, BUET Dhaka-1000.\, Dhaka 1000 Bangladesh\, Dhaka\, Dhaka-1000\, Bangladesh
CATEGORIES:Workshop
ATTACH;FMTTYPE=image/jpeg:https://itn.buet.ac.bd/web/wp-content/uploads/2023/09/Workshop-on-FSM-Business-Packages.jpg
END:VEVENT
END:VCALENDAR